Package: rtracklayer Version: 1.67.0 Command: /home/rapidbuild/bbs-3.21-bioc-rapid/R/bin/R CMD INSTALL rtracklayer StartedAt: 2025-01-31 06:24:26 -0500 (Fri, 31 Jan 2025) EndedAt: 2025-01-31 06:25:18 -0500 (Fri, 31 Jan 2025) EllapsedTime: 51.9 seconds RetCode: 0 Status: OK