Package: rpx Version: 2.15.0 Command: /home/rapidbuild/bbs-3.21-bioc-rapid/R/bin/R CMD check --install=check:rpx.install-out.txt --library=/home/rapidbuild/bbs-3.21-bioc-rapid/R/site-library --timings rpx_2.15.0.tar.gz StartedAt: 2025-01-31 09:17:22 -0500 (Fri, 31 Jan 2025) EndedAt: 2025-01-31 09:18:05 -0500 (Fri, 31 Jan 2025) EllapsedTime: 43.0 seconds RetCode: 1 Status: ERROR CheckDir: rpx.Rcheck Warnings: NA