Package: rhdf5 Version: 2.51.2 Command: /home/rapidbuild/bbs-3.21-bioc-rapid/R/bin/R CMD build --keep-empty-dirs --no-resave-data rhdf5 StartedAt: 2025-02-07 01:26:43 -0500 (Fri, 07 Feb 2025) EndedAt: 2025-02-07 01:30:56 -0500 (Fri, 07 Feb 2025) EllapsedTime: 253.7 seconds RetCode: 1 Status: ERROR PackageFile: None PackageFileSize: NA