Package: rBiopaxParser Version: 2.47.0 Command: /home/rapidbuild/bbs-3.21-bioc-rapid/R/bin/R CMD INSTALL rBiopaxParser StartedAt: 2025-01-31 06:10:51 -0500 (Fri, 31 Jan 2025) EndedAt: 2025-01-31 06:10:54 -0500 (Fri, 31 Jan 2025) EllapsedTime: 3.0 seconds RetCode: 0 Status: OK