Package: pwalign Version: 1.3.2 Maintainer: Hervé Pagès MaintainerEmail: hpages.on.github at gmail.com git_url: https://git.bioconductor.org/packages/pwalign git_branch: devel git_last_commit: 98648fc git_last_commit_date: 2025-01-21 17:04:57 -0500 (Tue, 21 Jan 2025)