Package: preprocessCore Version: 1.69.0 Command: /home/rapidbuild/bbs-3.21-bioc-rapid/R/bin/R CMD check --install=check:preprocessCore.install-out.txt --library=/home/rapidbuild/bbs-3.21-bioc-rapid/R/site-library --timings preprocessCore_1.69.0.tar.gz StartedAt: 2025-02-07 03:18:00 -0500 (Fri, 07 Feb 2025) EndedAt: 2025-02-07 03:18:20 -0500 (Fri, 07 Feb 2025) EllapsedTime: 20.0 seconds RetCode: 0 Status: WARNINGS CheckDir: preprocessCore.Rcheck Warnings: 2