Package: preprocessCore Version: 1.69.0 Command: /home/rapidbuild/bbs-3.21-bioc-rapid/R/bin/R CMD build --keep-empty-dirs --no-resave-data preprocessCore StartedAt: 2025-01-31 07:20:32 -0500 (Fri, 31 Jan 2025) EndedAt: 2025-01-31 07:20:33 -0500 (Fri, 31 Jan 2025) EllapsedTime: 1.0 seconds RetCode: 0 Status: OK PackageFile: preprocessCore_1.69.0.tar.gz PackageFileSize: 121.1 KiB