Package: phyloseq Version: 1.51.0 Command: /home/rapidbuild/bbs-3.21-bioc-rapid/R/bin/R CMD check --install=check:phyloseq.install-out.txt --library=/home/rapidbuild/bbs-3.21-bioc-rapid/R/site-library --timings phyloseq_1.51.0.tar.gz StartedAt: 2025-01-31 09:08:06 -0500 (Fri, 31 Jan 2025) EndedAt: 2025-01-31 09:12:14 -0500 (Fri, 31 Jan 2025) EllapsedTime: 248.6 seconds RetCode: 0 Status: WARNINGS CheckDir: phyloseq.Rcheck Warnings: 1