Package: pathview Version: 1.47.0 Command: /home/rapidbuild/bbs-3.21-bioc-rapid/R/bin/R CMD INSTALL pathview StartedAt: 2025-01-31 06:23:36 -0500 (Fri, 31 Jan 2025) EndedAt: 2025-01-31 06:23:53 -0500 (Fri, 31 Jan 2025) EllapsedTime: 16.7 seconds RetCode: 0 Status: OK