Package: pathview Version: 1.47.0 Command: /home/rapidbuild/bbs-3.21-bioc-rapid/R/bin/R CMD build --keep-empty-dirs --no-resave-data pathview StartedAt: 2025-01-31 07:18:37 -0500 (Fri, 31 Jan 2025) EndedAt: 2025-01-31 07:19:48 -0500 (Fri, 31 Jan 2025) EllapsedTime: 70.3 seconds RetCode: 0 Status: OK PackageFile: pathview_1.47.0.tar.gz PackageFileSize: 2.534 MiB