Package: pRoloc Version: 1.47.1 Command: /home/rapidbuild/bbs-3.21-bioc-rapid/R/bin/R CMD INSTALL pRoloc StartedAt: 2025-02-07 00:26:02 -0500 (Fri, 07 Feb 2025) EndedAt: 2025-02-07 00:27:12 -0500 (Fri, 07 Feb 2025) EllapsedTime: 69.7 seconds RetCode: 0 Status: OK