Package: pRoloc Version: 1.47.1 Command: /home/rapidbuild/bbs-3.21-bioc-rapid/R/bin/R CMD check --install=check:pRoloc.install-out.txt --library=/home/rapidbuild/bbs-3.21-bioc-rapid/R/site-library --timings pRoloc_1.47.1.tar.gz StartedAt: 2025-02-07 03:18:21 -0500 (Fri, 07 Feb 2025) EndedAt: 2025-02-07 03:31:39 -0500 (Fri, 07 Feb 2025) EllapsedTime: 798.0 seconds RetCode: 0 Status: OK CheckDir: pRoloc.Rcheck Warnings: 0