Package: pRoloc Version: 1.47.1 Command: /home/rapidbuild/bbs-3.21-bioc-rapid/R/bin/R CMD build --keep-empty-dirs --no-resave-data pRoloc StartedAt: 2025-02-07 01:20:34 -0500 (Fri, 07 Feb 2025) EndedAt: 2025-02-07 01:24:45 -0500 (Fri, 07 Feb 2025) EllapsedTime: 250.6 seconds RetCode: 0 Status: OK PackageFile: pRoloc_1.47.1.tar.gz PackageFileSize: 10.31 MiB