Package: openCyto Version: 2.19.0 Command: /home/rapidbuild/bbs-3.21-bioc-rapid/R/bin/R CMD INSTALL openCyto StartedAt: 2025-01-31 06:17:46 -0500 (Fri, 31 Jan 2025) EndedAt: 2025-01-31 06:18:10 -0500 (Fri, 31 Jan 2025) EllapsedTime: 24.7 seconds RetCode: 0 Status: OK