Package: openCyto Version: 2.19.0 Command: /home/rapidbuild/bbs-3.21-bioc-rapid/R/bin/R CMD check --install=check:openCyto.install-out.txt --library=/home/rapidbuild/bbs-3.21-bioc-rapid/R/site-library --timings openCyto_2.19.0.tar.gz StartedAt: 2025-02-07 03:15:00 -0500 (Fri, 07 Feb 2025) EndedAt: 2025-02-07 03:18:00 -0500 (Fri, 07 Feb 2025) EllapsedTime: 179.6 seconds RetCode: 0 Status: WARNINGS CheckDir: openCyto.Rcheck Warnings: 4