Package: openCyto Version: 2.19.0 Command: /home/rapidbuild/bbs-3.21-bioc-rapid/R/bin/R CMD build --keep-empty-dirs --no-resave-data openCyto StartedAt: 2025-01-31 07:17:34 -0500 (Fri, 31 Jan 2025) EndedAt: 2025-01-31 07:18:37 -0500 (Fri, 31 Jan 2025) EllapsedTime: 63.3 seconds RetCode: 0 Status: OK PackageFile: openCyto_2.19.0.tar.gz PackageFileSize: 1.768 MiB