Package: ncdfFlow Version: 2.53.1 Command: /home/rapidbuild/bbs-3.21-bioc-rapid/R/bin/R CMD check --install=check:ncdfFlow.install-out.txt --library=/home/rapidbuild/bbs-3.21-bioc-rapid/R/site-library --timings ncdfFlow_2.53.1.tar.gz StartedAt: 2025-01-31 09:06:52 -0500 (Fri, 31 Jan 2025) EndedAt: 2025-01-31 09:08:05 -0500 (Fri, 31 Jan 2025) EllapsedTime: 73.5 seconds RetCode: 0 Status: WARNINGS CheckDir: ncdfFlow.Rcheck Warnings: 3