Package: ncdfFlow Version: 2.53.1 Command: /home/rapidbuild/bbs-3.21-bioc-rapid/R/bin/R CMD build --keep-empty-dirs --no-resave-data ncdfFlow StartedAt: 2025-01-31 07:17:11 -0500 (Fri, 31 Jan 2025) EndedAt: 2025-01-31 07:17:34 -0500 (Fri, 31 Jan 2025) EllapsedTime: 22.0 seconds RetCode: 0 Status: OK PackageFile: ncdfFlow_2.53.1.tar.gz PackageFileSize: 198.5 KiB