Package: mzID Version: 1.45.0 Command: /home/rapidbuild/bbs-3.21-bioc-rapid/R/bin/R CMD INSTALL mzID StartedAt: 2025-01-31 06:10:55 -0500 (Fri, 31 Jan 2025) EndedAt: 2025-01-31 06:10:59 -0500 (Fri, 31 Jan 2025) EllapsedTime: 4.0 seconds RetCode: 0 Status: OK