Package: mzID Version: 1.45.0 Command: /home/rapidbuild/bbs-3.21-bioc-rapid/R/bin/R CMD check --install=check:mzID.install-out.txt --library=/home/rapidbuild/bbs-3.21-bioc-rapid/R/site-library --timings mzID_1.45.0.tar.gz StartedAt: 2025-01-31 09:06:21 -0500 (Fri, 31 Jan 2025) EndedAt: 2025-01-31 09:06:47 -0500 (Fri, 31 Jan 2025) EllapsedTime: 26.0 seconds RetCode: 0 Status: OK CheckDir: mzID.Rcheck Warnings: 0