Package: multtest Version: 2.63.0 Command: /home/rapidbuild/bbs-3.21-bioc-rapid/R/bin/R CMD INSTALL multtest StartedAt: 2025-01-31 06:13:28 -0500 (Fri, 31 Jan 2025) EndedAt: 2025-01-31 06:13:40 -0500 (Fri, 31 Jan 2025) EllapsedTime: 12.0 seconds RetCode: 0 Status: OK