Package: minet Version: 3.65.0 Command: /home/rapidbuild/bbs-3.21-bioc-rapid/R/bin/R CMD check --install=check:minet.install-out.txt --library=/home/rapidbuild/bbs-3.21-bioc-rapid/R/site-library --timings minet_3.65.0.tar.gz StartedAt: 2025-01-31 09:00:45 -0500 (Fri, 31 Jan 2025) EndedAt: 2025-01-31 09:00:56 -0500 (Fri, 31 Jan 2025) EllapsedTime: 11.3 seconds RetCode: 0 Status: OK CheckDir: minet.Rcheck Warnings: 0