Package: microRNA Version: 1.65.0 Command: /home/rapidbuild/bbs-3.21-bioc-rapid/R/bin/R CMD INSTALL microRNA StartedAt: 2025-01-31 06:18:44 -0500 (Fri, 31 Jan 2025) EndedAt: 2025-01-31 06:18:45 -0500 (Fri, 31 Jan 2025) EllapsedTime: 1.0 seconds RetCode: 1 Status: ERROR