Package: microRNA Version: 1.65.0 Command: /home/rapidbuild/bbs-3.21-bioc-rapid/R/bin/R CMD check --install=check:microRNA.install-out.txt --library=/home/rapidbuild/bbs-3.21-bioc-rapid/R/site-library --timings microRNA_1.65.0.tar.gz StartedAt: 2025-01-31 09:00:41 -0500 (Fri, 31 Jan 2025) EndedAt: 2025-01-31 09:00:44 -0500 (Fri, 31 Jan 2025) EllapsedTime: 3.0 seconds RetCode: 1 Status: ERROR CheckDir: microRNA.Rcheck Warnings: NA