Package: metapod Version: 1.15.0 Command: /home/rapidbuild/bbs-3.21-bioc-rapid/R/bin/R CMD INSTALL metapod StartedAt: 2025-02-07 00:09:14 -0500 (Fri, 07 Feb 2025) EndedAt: 2025-02-07 00:09:36 -0500 (Fri, 07 Feb 2025) EllapsedTime: 21.5 seconds RetCode: 0 Status: OK