Package: metapod Version: 1.15.0 Command: /home/rapidbuild/bbs-3.21-bioc-rapid/R/bin/R CMD build --keep-empty-dirs --no-resave-data metapod StartedAt: 2025-02-07 01:13:01 -0500 (Fri, 07 Feb 2025) EndedAt: 2025-02-07 01:13:24 -0500 (Fri, 07 Feb 2025) EllapsedTime: 23.0 seconds RetCode: 0 Status: OK PackageFile: metapod_1.15.0.tar.gz PackageFileSize: 324 KiB