Package: mbkmeans Version: 1.23.0 Command: /home/rapidbuild/bbs-3.21-bioc-rapid/R/bin/R CMD INSTALL mbkmeans StartedAt: 2025-01-31 06:28:23 -0500 (Fri, 31 Jan 2025) EndedAt: 2025-01-31 06:29:09 -0500 (Fri, 31 Jan 2025) EllapsedTime: 45.9 seconds RetCode: 0 Status: OK