Package: maftools Version: 2.23.0 Command: /home/rapidbuild/bbs-3.21-bioc-rapid/R/bin/R CMD check --install=check:maftools.install-out.txt --library=/home/rapidbuild/bbs-3.21-bioc-rapid/R/site-library --timings maftools_2.23.0.tar.gz StartedAt: 2025-01-31 08:58:25 -0500 (Fri, 31 Jan 2025) EndedAt: 2025-01-31 09:02:18 -0500 (Fri, 31 Jan 2025) EllapsedTime: 232.5 seconds RetCode: 0 Status: WARNINGS CheckDir: maftools.Rcheck Warnings: 1