Package: limma Version: 3.63.3 Command: /home/rapidbuild/bbs-3.21-bioc-rapid/R/bin/R CMD check --install=check:limma.install-out.txt --library=/home/rapidbuild/bbs-3.21-bioc-rapid/R/site-library --timings limma_3.63.3.tar.gz StartedAt: 2025-02-07 03:04:19 -0500 (Fri, 07 Feb 2025) EndedAt: 2025-02-07 03:05:37 -0500 (Fri, 07 Feb 2025) EllapsedTime: 77.5 seconds RetCode: 0 Status: OK CheckDir: limma.Rcheck Warnings: 0