Package: keggorthology Version: 2.59.0 Command: /home/rapidbuild/bbs-3.21-bioc-rapid/R/bin/R CMD check --install=check:keggorthology.install-out.txt --library=/home/rapidbuild/bbs-3.21-bioc-rapid/R/site-library --timings keggorthology_2.59.0.tar.gz StartedAt: 2025-02-07 03:02:58 -0500 (Fri, 07 Feb 2025) EndedAt: 2025-02-07 03:04:30 -0500 (Fri, 07 Feb 2025) EllapsedTime: 92.7 seconds RetCode: 0 Status: OK CheckDir: keggorthology.Rcheck Warnings: 0