Package: karyoploteR Version: 1.33.0 Command: /home/rapidbuild/bbs-3.21-bioc-rapid/R/bin/R CMD build --keep-empty-dirs --no-resave-data karyoploteR StartedAt: 2025-01-31 07:06:31 -0500 (Fri, 31 Jan 2025) EndedAt: 2025-01-31 07:07:42 -0500 (Fri, 31 Jan 2025) EllapsedTime: 70.3 seconds RetCode: 1 Status: ERROR PackageFile: None PackageFileSize: NA