Package: impute Version: 1.81.0 Command: /home/rapidbuild/bbs-3.21-bioc-rapid/R/bin/R CMD INSTALL impute StartedAt: 2025-01-31 06:04:38 -0500 (Fri, 31 Jan 2025) EndedAt: 2025-01-31 06:04:41 -0500 (Fri, 31 Jan 2025) EllapsedTime: 2.5 seconds RetCode: 0 Status: OK