Package: impute Version: 1.81.0 Command: /home/rapidbuild/bbs-3.21-bioc-rapid/R/bin/R CMD check --install=check:impute.install-out.txt --library=/home/rapidbuild/bbs-3.21-bioc-rapid/R/site-library --timings impute_1.81.0.tar.gz StartedAt: 2025-01-31 08:55:28 -0500 (Fri, 31 Jan 2025) EndedAt: 2025-01-31 08:55:38 -0500 (Fri, 31 Jan 2025) EllapsedTime: 10.3 seconds RetCode: 0 Status: WARNINGS CheckDir: impute.Rcheck Warnings: 1