Package: hpar Version: 1.49.0 Command: /home/rapidbuild/bbs-3.21-bioc-rapid/R/bin/R CMD INSTALL hpar StartedAt: 2025-02-07 00:23:08 -0500 (Fri, 07 Feb 2025) EndedAt: 2025-02-07 00:23:20 -0500 (Fri, 07 Feb 2025) EllapsedTime: 12.4 seconds RetCode: 0 Status: OK