Package: hpar Version: 1.49.0 Command: /home/rapidbuild/bbs-3.21-bioc-rapid/R/bin/R CMD build --keep-empty-dirs --no-resave-data hpar StartedAt: 2025-02-12 06:24:01 -0500 (Wed, 12 Feb 2025) EndedAt: 2025-02-12 06:24:28 -0500 (Wed, 12 Feb 2025) EllapsedTime: 27.3 seconds RetCode: 1 Status: ERROR PackageFile: None PackageFileSize: NA