Package: h5mread Version: 0.99.4 Command: /home/rapidbuild/bbs-3.21-bioc-rapid/R/bin/R CMD INSTALL h5mread StartedAt: 2025-02-07 00:14:53 -0500 (Fri, 07 Feb 2025) EndedAt: 2025-02-07 00:15:15 -0500 (Fri, 07 Feb 2025) EllapsedTime: 21.5 seconds RetCode: 0 Status: OK