Package: gypsum Version: 1.3.0 Command: /home/rapidbuild/bbs-3.21-bioc-rapid/R/bin/R CMD INSTALL gypsum StartedAt: 2025-02-01 12:12:11 -0500 (Sat, 01 Feb 2025) EndedAt: 2025-02-01 12:12:14 -0500 (Sat, 01 Feb 2025) EllapsedTime: 3.4 seconds RetCode: 0 Status: OK