Package: graph Version: 1.85.1 Command: /home/rapidbuild/bbs-3.21-bioc-rapid/R/bin/R CMD check --install=check:graph.install-out.txt --library=/home/rapidbuild/bbs-3.21-bioc-rapid/R/site-library --timings graph_1.85.1.tar.gz StartedAt: 2025-01-31 08:46:47 -0500 (Fri, 31 Jan 2025) EndedAt: 2025-01-31 08:47:34 -0500 (Fri, 31 Jan 2025) EllapsedTime: 47.7 seconds RetCode: 1 Status: ERROR CheckDir: graph.Rcheck Warnings: NA