Package: graph Version: 1.85.1 Command: /home/rapidbuild/bbs-3.21-bioc-rapid/R/bin/R CMD build --keep-empty-dirs --no-resave-data graph StartedAt: 2025-01-31 06:59:24 -0500 (Fri, 31 Jan 2025) EndedAt: 2025-01-31 06:59:47 -0500 (Fri, 31 Jan 2025) EllapsedTime: 23.0 seconds RetCode: 0 Status: OK PackageFile: graph_1.85.1.tar.gz PackageFileSize: 1.429 MiB