Package: gpls Version: 1.79.0 Command: /home/rapidbuild/bbs-3.21-bioc-rapid/R/bin/R CMD INSTALL gpls StartedAt: 2025-01-31 06:06:18 -0500 (Fri, 31 Jan 2025) EndedAt: 2025-01-31 06:06:20 -0500 (Fri, 31 Jan 2025) EllapsedTime: 2.0 seconds RetCode: 0 Status: OK