Package: gpls Version: 1.79.0 Command: /home/rapidbuild/bbs-3.21-bioc-rapid/R/bin/R CMD check --install=check:gpls.install-out.txt --library=/home/rapidbuild/bbs-3.21-bioc-rapid/R/site-library --timings gpls_1.79.0.tar.gz StartedAt: 2025-02-07 02:51:26 -0500 (Fri, 07 Feb 2025) EndedAt: 2025-02-07 02:51:51 -0500 (Fri, 07 Feb 2025) EllapsedTime: 25.5 seconds RetCode: 0 Status: WARNINGS CheckDir: gpls.Rcheck Warnings: 1