Package: glmGamPoi Version: 1.19.2 Command: /home/rapidbuild/bbs-3.21-bioc-rapid/R/bin/R CMD INSTALL glmGamPoi StartedAt: 2025-02-07 00:19:58 -0500 (Fri, 07 Feb 2025) EndedAt: 2025-02-07 00:20:51 -0500 (Fri, 07 Feb 2025) EllapsedTime: 53.9 seconds RetCode: 0 Status: OK