Package: ggtreeExtra Version: 1.17.0 Command: /home/rapidbuild/bbs-3.21-bioc-rapid/R/bin/R CMD build --keep-empty-dirs --no-resave-data ggtreeExtra StartedAt: 2025-01-31 06:58:08 -0500 (Fri, 31 Jan 2025) EndedAt: 2025-01-31 06:58:21 -0500 (Fri, 31 Jan 2025) EllapsedTime: 13.0 seconds RetCode: 0 Status: OK PackageFile: ggtreeExtra_1.17.0.tar.gz PackageFileSize: 523.7 KiB