Package: ggbio Version: 1.55.0 Command: /home/rapidbuild/bbs-3.21-bioc-rapid/R/bin/R CMD INSTALL ggbio StartedAt: 2025-01-31 06:28:29 -0500 (Fri, 31 Jan 2025) EndedAt: 2025-01-31 06:29:24 -0500 (Fri, 31 Jan 2025) EllapsedTime: 54.9 seconds RetCode: 0 Status: OK