Package: ggbio Version: 1.55.0 Command: /home/rapidbuild/bbs-3.21-bioc-rapid/R/bin/R CMD check --install=check:ggbio.install-out.txt --library=/home/rapidbuild/bbs-3.21-bioc-rapid/R/site-library --timings ggbio_1.55.0.tar.gz StartedAt: 2025-01-31 08:39:52 -0500 (Fri, 31 Jan 2025) EndedAt: 2025-01-31 08:50:16 -0500 (Fri, 31 Jan 2025) EllapsedTime: 624.2 seconds RetCode: 0 Status: WARNINGS CheckDir: ggbio.Rcheck Warnings: 2