Package: ggbio Version: 1.55.0 Command: /home/rapidbuild/bbs-3.21-bioc-rapid/R/bin/R CMD build --keep-empty-dirs --no-resave-data ggbio StartedAt: 2025-01-31 06:57:30 -0500 (Fri, 31 Jan 2025) EndedAt: 2025-01-31 07:01:07 -0500 (Fri, 31 Jan 2025) EllapsedTime: 217.3 seconds RetCode: 0 Status: OK PackageFile: ggbio_1.55.0.tar.gz PackageFileSize: 3.095 MiB