Package: geneplotter Version: 1.85.0 Command: /home/rapidbuild/bbs-3.21-bioc-rapid/R/bin/R CMD INSTALL geneplotter StartedAt: 2025-01-31 06:22:26 -0500 (Fri, 31 Jan 2025) EndedAt: 2025-01-31 06:22:38 -0500 (Fri, 31 Jan 2025) EllapsedTime: 12.5 seconds RetCode: 0 Status: OK