Package: geneplotter Version: 1.85.0 Command: /home/rapidbuild/bbs-3.21-bioc-rapid/R/bin/R CMD check --install=check:geneplotter.install-out.txt --library=/home/rapidbuild/bbs-3.21-bioc-rapid/R/site-library --timings geneplotter_1.85.0.tar.gz StartedAt: 2025-01-31 08:37:50 -0500 (Fri, 31 Jan 2025) EndedAt: 2025-01-31 08:39:23 -0500 (Fri, 31 Jan 2025) EllapsedTime: 93.0 seconds RetCode: 0 Status: OK CheckDir: geneplotter.Rcheck Warnings: 0