Package: geneplotter Version: 1.85.0 Command: /home/rapidbuild/bbs-3.21-bioc-rapid/R/bin/R CMD build --keep-empty-dirs --no-resave-data geneplotter StartedAt: 2025-01-31 06:55:15 -0500 (Fri, 31 Jan 2025) EndedAt: 2025-01-31 06:55:34 -0500 (Fri, 31 Jan 2025) EllapsedTime: 19.0 seconds RetCode: 0 Status: OK PackageFile: geneplotter_1.85.0.tar.gz PackageFileSize: 1.636 MiB