Package: gcrma Version: 2.79.0 Command: /home/rapidbuild/bbs-3.21-bioc-rapid/R/bin/R CMD INSTALL gcrma StartedAt: 2025-01-31 06:27:57 -0500 (Fri, 31 Jan 2025) EndedAt: 2025-01-31 06:28:08 -0500 (Fri, 31 Jan 2025) EllapsedTime: 11.0 seconds RetCode: 0 Status: OK